BEGIN:VCALENDAR
VERSION:2.0
PRODID:icalendar-ruby
CALSCALE:GREGORIAN
BEGIN:VEVENT
DTSTAMP:20260420T193900Z
UID:9fee38a0-5965-4df1-a223-00a1f72bd297
DTSTART;VALUE=DATE:20200717
DESCRIPTION:Property ID# 483507\, Time: 4:00PM
SUMMARY:Auction for 
END:VEVENT
END:VCALENDAR
