BEGIN:VCALENDAR
VERSION:2.0
PRODID:icalendar-ruby
CALSCALE:GREGORIAN
BEGIN:VEVENT
DTSTAMP:20260421T103650Z
UID:4064adcf-732a-4c15-9250-69d6c681b5c8
DTSTART;VALUE=DATE:20200723
DESCRIPTION:Property ID# 484260\, Locatoin: Harcourts Auction Rooms\, 1 Thi
 rd Avenue\, Tauranga\, Unless Sold Prior\, Time: 1:30PM
SUMMARY:Auction for 
END:VEVENT
END:VCALENDAR
