BEGIN:VCALENDAR
VERSION:2.0
PRODID:icalendar-ruby
CALSCALE:GREGORIAN
BEGIN:VEVENT
DTSTAMP:20260422T001424Z
UID:b697c119-2041-4df6-b9a9-f262bf61c368
DTSTART;VALUE=DATE:20201105
DESCRIPTION:Property ID# 491717\, Locatoin: In rooms\, Time: 1:00PM
SUMMARY:Auction for 
END:VEVENT
END:VCALENDAR
