BEGIN:VCALENDAR
VERSION:2.0
PRODID:icalendar-ruby
CALSCALE:GREGORIAN
BEGIN:VEVENT
DTSTAMP:20260421T115543Z
UID:cd217722-5f2d-4f9c-b107-e37e803da81b
DTSTART;VALUE=DATE:20210324
DESCRIPTION:Property ID# 503958\, Locatoin: Ray White Auction Rooms 5/9 Dom
 ain Road\, Papamoa\, 3118\, Time: 1:00PM
SUMMARY:Auction for 
END:VEVENT
END:VCALENDAR
