BEGIN:VCALENDAR
VERSION:2.0
PRODID:icalendar-ruby
CALSCALE:GREGORIAN
BEGIN:VEVENT
DTSTAMP:20260422T011302Z
UID:b6a2427a-6869-4a7d-98d8-bc6aa467df7b
DTSTART;VALUE=DATE:20210407
DESCRIPTION:Property ID# 505077\, Locatoin: 47b lyn grove \, Time: 12:00PM
SUMMARY:Auction for 
END:VEVENT
END:VCALENDAR
