BEGIN:VCALENDAR
VERSION:2.0
PRODID:icalendar-ruby
CALSCALE:GREGORIAN
BEGIN:VEVENT
DTSTAMP:20260421T153617Z
UID:7f5cfae2-8fe9-4247-90e9-81ca4bb65ade
DTSTART;VALUE=DATE:20210526
DESCRIPTION:Property ID# 508639\, Time: 1:00PM
SUMMARY:Auction for 
END:VEVENT
END:VCALENDAR
