BEGIN:VCALENDAR
VERSION:2.0
PRODID:icalendar-ruby
CALSCALE:GREGORIAN
BEGIN:VEVENT
DTSTAMP:20260423T101122Z
UID:188da257-ba59-4777-ada7-f779772ffc5c
DTSTART;VALUE=DATE:20220915
DESCRIPTION:Property ID# 542875\, Locatoin: Harcourt Auction Room\, 1 Third
  Avenue\, Tauranga\, Time: 11:00AM
SUMMARY:Auction for 
END:VEVENT
END:VCALENDAR
