BEGIN:VCALENDAR
VERSION:2.0
PRODID:icalendar-ruby
CALSCALE:GREGORIAN
BEGIN:VEVENT
DTSTAMP:20260422T011345Z
UID:387a787e-6273-4313-9478-3351cc1d4dad
DTSTART;VALUE=DATE:20230927
DESCRIPTION:Property ID# 561398\, Locatoin: tauranga \, Time: 12:00PM
SUMMARY:Auction for 
END:VEVENT
END:VCALENDAR
