BEGIN:VCALENDAR
VERSION:2.0
PRODID:icalendar-ruby
CALSCALE:GREGORIAN
BEGIN:VEVENT
DTSTAMP:20260424T083105Z
UID:f11e2d2e-a30e-4270-ae0e-116829a9b32f
DTSTART;VALUE=DATE:20240411
DESCRIPTION:Property ID# 572491\, Locatoin: Auction Rooms\, 247 Cameron Roa
 d\, Tauranga. Unless sold prior\, Time: 1:00PM
SUMMARY:Auction for 
END:VEVENT
END:VCALENDAR
