BEGIN:VCALENDAR
VERSION:2.0
PRODID:icalendar-ruby
CALSCALE:GREGORIAN
BEGIN:VEVENT
DTSTAMP:20260424T083000Z
UID:90158f11-26f1-4556-b8d7-c964767ea9f3
DTSTART;VALUE=DATE:20240418
DESCRIPTION:Property ID# 572759\, Locatoin: 247 Cameron Road\, Time: 12:00P
 M
SUMMARY:Auction for 
END:VEVENT
END:VCALENDAR
