BEGIN:VCALENDAR
VERSION:2.0
PRODID:icalendar-ruby
CALSCALE:GREGORIAN
BEGIN:VEVENT
DTSTAMP:20260422T085001Z
UID:caa4db4c-5fa8-4a06-b2cc-233bb2cc36ae
DTSTART;VALUE=DATE:20240822
DESCRIPTION:Property ID# 579246\, Locatoin: Auction Rooms\, 247 Cameron Roa
 d\, Tauranga. Unless sold prior\, Time: 12:00PM
SUMMARY:Auction for 
END:VEVENT
END:VCALENDAR
