BEGIN:VCALENDAR
VERSION:2.0
PRODID:icalendar-ruby
CALSCALE:GREGORIAN
BEGIN:VEVENT
DTSTAMP:20260422T124403Z
UID:dc3e7460-3f2c-4cc0-8f79-60820b40991d
DTSTART;VALUE=DATE:20240925
DESCRIPTION:Property ID# 580557\, Time: 11:30AM
SUMMARY:Auction for 
END:VEVENT
END:VCALENDAR
