BEGIN:VCALENDAR
VERSION:2.0
PRODID:icalendar-ruby
CALSCALE:GREGORIAN
BEGIN:VEVENT
DTSTAMP:20260420T054213Z
UID:d4078f83-12f1-4bbc-a338-f987c577dfbc
DTSTART;VALUE=DATE:20250410
DESCRIPTION:Property ID# 589674\, Locatoin: Auction Rooms\, 247 Cameron Roa
 d\, Tauranga. Unless sold prior\, Time: 1:00PM
SUMMARY:Auction for 
END:VEVENT
END:VCALENDAR
