BEGIN:VCALENDAR
VERSION:2.0
PRODID:icalendar-ruby
CALSCALE:GREGORIAN
BEGIN:VEVENT
DTSTAMP:20260421T154100Z
UID:886f44e9-5145-410c-aa34-d428c05d29d2
DTSTART;VALUE=DATE:20250807
DESCRIPTION:Property ID# 594464\, Locatoin: Onsite 18 Washer Place\, Te Puk
 e\, Time: 11:00AM
SUMMARY:Auction for 
END:VEVENT
END:VCALENDAR
