BEGIN:VCALENDAR
VERSION:2.0
PRODID:icalendar-ruby
CALSCALE:GREGORIAN
BEGIN:VEVENT
DTSTAMP:20260423T175255Z
UID:9f03fc58-65dd-402a-b24f-a7bf5aaf4a80
DTSTART;VALUE=DATE:20251008
DESCRIPTION:Property ID# 597736\, Locatoin: Harcourts Auction Room\, 1 Thir
 d Avenue\, Tauranga\, Time: 12:00PM
SUMMARY:Auction for 
END:VEVENT
END:VCALENDAR
