BEGIN:VCALENDAR
VERSION:2.0
PRODID:icalendar-ruby
CALSCALE:GREGORIAN
BEGIN:VEVENT
DTSTAMP:20260420T054334Z
UID:3114978f-0d11-4f9c-a052-6a00e94b2ca6
DTSTART;VALUE=DATE:20260514
DESCRIPTION:Property ID# 606570\, Locatoin: Auction Rooms\, 247 Cameron Roa
 d\, Tauranga. Unless sold prior\, Time: 1:00PM
SUMMARY:Auction for 117 Manuwai Drive
END:VEVENT
END:VCALENDAR
