BEGIN:VCALENDAR
VERSION:2.0
PRODID:icalendar-ruby
CALSCALE:GREGORIAN
BEGIN:VEVENT
DTSTAMP:20260422T125008Z
UID:b42a0753-47bf-4948-9ced-e2eae2bd25db
DTSTART;VALUE=DATE:20260520
DESCRIPTION:Property ID# 606696\, Locatoin: Harcourts Auction Room\, 1 Thir
 d Avenue\, Tauranga\, Time: 11:30AM
SUMMARY:Auction for 2A Oikimoke Road
END:VEVENT
END:VCALENDAR
