BEGIN:VCALENDAR
VERSION:2.0
PRODID:icalendar-ruby
CALSCALE:GREGORIAN
BEGIN:VEVENT
DTSTAMP:20260420T024909Z
UID:fc59b87c-7ed0-4050-8a96-789ac64f6570
DTSTART;VALUE=DATE:20260514
DESCRIPTION:Property ID# 606970\, Locatoin: Auction Rooms\, 247 Cameron Roa
 d\, Tauranga. Unless sold prior\, Time: 1:00PM
SUMMARY:Auction for 52 Matemuri Drive
END:VEVENT
END:VCALENDAR
