BEGIN:VCALENDAR
VERSION:2.0
PRODID:icalendar-ruby
CALSCALE:GREGORIAN
BEGIN:VEVENT
DTSTAMP:20260420T053419Z
UID:8ba9a813-06c1-42cf-93ac-f2a939cf0b4e
DTSTART;TZID=Pacific/Auckland:20260419T103000
DTEND;TZID=Pacific/Auckland:20260419T111500
DESCRIPTION:Property ID# 603202
SUMMARY:Openhome for 17 Te Wati Street
END:VEVENT
END:VCALENDAR
