BEGIN:VCALENDAR
VERSION:2.0
PRODID:icalendar-ruby
CALSCALE:GREGORIAN
BEGIN:VEVENT
DTSTAMP:20260420T024807Z
UID:5a8670bc-926c-4857-8557-6df73461f28d
DTSTART;TZID=Pacific/Auckland:20260419T130000
DTEND;TZID=Pacific/Auckland:20260419T133000
DESCRIPTION:Property ID# 606111
SUMMARY:Openhome for 2 Beachwater Drive
END:VEVENT
END:VCALENDAR
