BEGIN:VCALENDAR
VERSION:2.0
PRODID:icalendar-ruby
CALSCALE:GREGORIAN
BEGIN:VEVENT
DTSTAMP:20260420T024622Z
UID:d51af61a-bb19-4c13-a917-e6df6eaea6a1
DTSTART;TZID=Pacific/Auckland:20260419T131500
DTEND;TZID=Pacific/Auckland:20260419T134500
DESCRIPTION:Property ID# 605976
SUMMARY:Openhome for 30 Mauritius Key
END:VEVENT
END:VCALENDAR
