BEGIN:VCALENDAR
VERSION:2.0
PRODID:icalendar-ruby
CALSCALE:GREGORIAN
BEGIN:VEVENT
DTSTAMP:20260420T024909Z
UID:69a53e16-6ad2-44f7-b402-04006d992fdd
DTSTART;TZID=Pacific/Auckland:20260418T123000
DTEND;TZID=Pacific/Auckland:20260418T130000
DESCRIPTION:Property ID# 606918
SUMMARY:Openhome for 12 Putaka Place
END:VEVENT
END:VCALENDAR
