BEGIN:VCALENDAR
VERSION:2.0
PRODID:icalendar-ruby
CALSCALE:GREGORIAN
BEGIN:VEVENT
DTSTAMP:20260423T174601Z
UID:a6d54dc2-3e23-4f58-b6c0-3a62768c76d4
DTSTART;TZID=Pacific/Auckland:20260426T120000
DTEND;TZID=Pacific/Auckland:20260426T123000
DESCRIPTION:Property ID# 604770
SUMMARY:Openhome for 44 Sapphire Drive
END:VEVENT
END:VCALENDAR
